BEGIN:VCALENDAR
VERSION:2.0
PRODID:-//Port St. Johns Municipality - ECPv6.9.1//NONSGML v1.0//EN
CALSCALE:GREGORIAN
METHOD:PUBLISH
X-WR-CALNAME:Port St. Johns Municipality
X-ORIGINAL-URL:https://psjmunicipality.gov.za/za
X-WR-CALDESC:Events for Port St. Johns Municipality
REFRESH-INTERVAL;VALUE=DURATION:PT1H
X-Robots-Tag:noindex
X-PUBLISHED-TTL:PT1H
BEGIN:VTIMEZONE
TZID:UTC
BEGIN:STANDARD
TZOFFSETFROM:+0000
TZOFFSETTO:+0000
TZNAME:UTC
DTSTART:20200101T000000
END:STANDARD
END:VTIMEZONE
BEGIN:VEVENT
DTSTART;TZID=UTC:20231225T080000
DTEND;TZID=UTC:20231225T170000
DTSTAMP:20260424T225545
CREATED:20200304T040846Z
LAST-MODIFIED:20231125T143558Z
UID:1061-1703491200-1703523600@psjmunicipality.gov.za
SUMMARY:Mayor's christmas carol service
DESCRIPTION:Overview\n    How all this mistaken idea of denouncing pleasure  praising pain was born  and i will give you all complete account of the system of  great explorer of the truth pursues in a free hour\, when power of choice is untrammelled and when nothing. \n    Denouncing pleasure and praising pain was born  and i will give all complete account the system expound every pleasure is to be welcomed and every pain avoided.
URL:https://psjmunicipality.gov.za/za/event/mayors-christmas-carol-service/
LOCATION:Port St. Johns Town Hall\, ERF 257 Town Hall\, Port St. Johns\, Eastern Cape\, 5120\, South Africa
CATEGORIES:Celebration
ATTACH;FMTTYPE=image/jpeg:https://psjmunicipality.gov.za/za/wp-content/uploads/2020/03/Port_St._Johns_town_centre.jpg
END:VEVENT
BEGIN:VEVENT
DTSTART;TZID=UTC:20210422T080000
DTEND;TZID=UTC:20210422T140000
DTSTAMP:20260424T225545
CREATED:20200303T062042Z
LAST-MODIFIED:20231125T143225Z
UID:1010-1619078400-1619100000@psjmunicipality.gov.za
SUMMARY:Mayoral Imbizo
DESCRIPTION:Overview\n    How all this mistaken idea of denouncing pleasure  praising pain was born  and i will give you all complete account of the system of  great explorer of the truth pursues in a free hour\, when power of choice is untrammelled and when nothing. \n    Denouncing pleasure and praising pain was born  and i will give all complete account the system expound every pleasure is to be welcomed and every pain avoided.
URL:https://psjmunicipality.gov.za/za/event/dacys-parade-balloon-inflation-10/
LOCATION:Port St. Johns Town Hall\, ERF 257 Town Hall\, Port St. Johns\, Eastern Cape\, 5120\, South Africa
CATEGORIES:Celebration
ATTACH;FMTTYPE=image/jpeg:https://psjmunicipality.gov.za/za/wp-content/uploads/2020/03/58430286_353769975263807_1793102653706731520_n.jpg
END:VEVENT
BEGIN:VEVENT
DTSTART;TZID=UTC:20200304T080000
DTEND;TZID=UTC:20200304T170000
DTSTAMP:20260424T225545
CREATED:20200304T091928Z
LAST-MODIFIED:20231125T143655Z
UID:1106-1583308800-1583341200@psjmunicipality.gov.za
SUMMARY:School level football match
DESCRIPTION:Overview\n    How all this mistaken idea of denouncing pleasure  praising pain was born  and i will give you all complete account of the system of  great explorer of the truth pursues in a free hour\, when power of choice is untrammelled and when nothing. \n    Denouncing pleasure and praising pain was born  and i will give all complete account the system expound every pleasure is to be welcomed and every pain avoided.
URL:https://psjmunicipality.gov.za/za/event/dacys-parade-balloon-inflation-3/
LOCATION:Port St. Johns Town Hall\, ERF 257 Town Hall\, Port St. Johns\, Eastern Cape\, 5120\, South Africa
CATEGORIES:Celebration
ATTACH;FMTTYPE=image/jpeg:https://psjmunicipality.gov.za/za/wp-content/uploads/2020/06/featured-image-24.jpg
ORGANIZER;CN="Herman Gordon":MAILTO:gordon@mygovt.com
END:VEVENT
END:VCALENDAR